BEGIN:VCALENDAR
VERSION:2.0
PRODID:-//Tukios.com/
BEGIN:VEVENT
UID:493ed0ed-e1b1-4d0c-926f-1ef0acdd2967@www.restlawnfh.com
DTSTAMP:20260425T121434Z
DTSTART:20260515T200000Z
DTEND:20260515T230000Z
SUMMARY:Memorial for Ray Dean Ballweber
DESCRIPTION:
URL:https://www.restlawnfh.com/obituaries/ray-ballweber
LOCATION:The Gathering Place 7845 River Road Northeast  Keizer OR 97303
GEO:45.0330173;-123.0031485
END:VEVENT
END:VCALENDAR